BEGIN:VCALENDAR
VERSION:2.0
PRODID:-//Bayonne Muslims - ECPv6.15.20//NONSGML v1.0//EN
CALSCALE:GREGORIAN
METHOD:PUBLISH
X-WR-CALNAME:Bayonne Muslims
X-ORIGINAL-URL:https://www.bayonnemuslims.com
X-WR-CALDESC:Events for Bayonne Muslims
REFRESH-INTERVAL;VALUE=DURATION:PT1H
X-Robots-Tag:noindex
X-PUBLISHED-TTL:PT1H
BEGIN:VTIMEZONE
TZID:America/New_York
BEGIN:DAYLIGHT
TZOFFSETFROM:-0500
TZOFFSETTO:-0400
TZNAME:EDT
DTSTART:20220313T070000
END:DAYLIGHT
BEGIN:STANDARD
TZOFFSETFROM:-0400
TZOFFSETTO:-0500
TZNAME:EST
DTSTART:20221106T060000
END:STANDARD
BEGIN:DAYLIGHT
TZOFFSETFROM:-0500
TZOFFSETTO:-0400
TZNAME:EDT
DTSTART:20230312T070000
END:DAYLIGHT
BEGIN:STANDARD
TZOFFSETFROM:-0400
TZOFFSETTO:-0500
TZNAME:EST
DTSTART:20231105T060000
END:STANDARD
BEGIN:DAYLIGHT
TZOFFSETFROM:-0500
TZOFFSETTO:-0400
TZNAME:EDT
DTSTART:20240310T070000
END:DAYLIGHT
BEGIN:STANDARD
TZOFFSETFROM:-0400
TZOFFSETTO:-0500
TZNAME:EST
DTSTART:20241103T060000
END:STANDARD
END:VTIMEZONE
BEGIN:VEVENT
DTSTART;TZID=America/New_York:20230519T180000
DTEND;TZID=America/New_York:20230519T180000
DTSTAMP:20260419T215354
CREATED:20230513T142501Z
LAST-MODIFIED:20230513T142501Z
UID:5555-1684519200-1684519200@www.bayonnemuslims.com
SUMMARY:Halaqah Khadijah
DESCRIPTION:
URL:https://www.bayonnemuslims.com/events/halaqah-khadijah/
LOCATION:Bayonne Muslims\, 109 E 24th St\, Bayonne\, NJ 07002\, USA\, New Jersey\, NJ\, 07002\, United States
CATEGORIES:event
ATTACH;FMTTYPE=image/jpeg:https://www.bayonnemuslims.com/wp-content/uploads/2023/05/WhatsApp-Image-2023-05-12-at-22.10.18.jpg
END:VEVENT
BEGIN:VEVENT
DTSTART;TZID=America/New_York:20230512T180000
DTEND;TZID=America/New_York:20230512T200000
DTSTAMP:20260419T215354
CREATED:20230508T051739Z
LAST-MODIFIED:20230512T052847Z
UID:5501-1683914400-1683921600@www.bayonnemuslims.com
SUMMARY:Halaqah Aisha
DESCRIPTION:
URL:https://www.bayonnemuslims.com/events/halaqah-aisha/
LOCATION:Bayonne Muslims\, 109 E 24th St\, Bayonne\, NJ 07002\, USA\, New Jersey\, NJ\, 07002\, United States
CATEGORIES:event
ATTACH;FMTTYPE=image/jpeg:https://www.bayonnemuslims.com/wp-content/uploads/2023/05/WhatsApp-Image-2023-05-07-at-06.09.26.jpg
END:VEVENT
BEGIN:VEVENT
DTSTART;TZID=America/New_York:20230519T180000
DTEND;TZID=America/New_York:20230519T180000
DTSTAMP:20260419T215354
CREATED:20230513T142501Z
LAST-MODIFIED:20230513T142501Z
UID:5555-1684519200-1684519200@www.bayonnemuslims.com
SUMMARY:Halaqah Khadijah
DESCRIPTION:
URL:https://www.bayonnemuslims.com/events/halaqah-khadijah/
LOCATION:Bayonne Muslims\, 109 E 24th St\, Bayonne\, NJ 07002\, USA\, New Jersey\, NJ\, 07002\, United States
CATEGORIES:event
ATTACH;FMTTYPE=image/jpeg:https://www.bayonnemuslims.com/wp-content/uploads/2023/05/WhatsApp-Image-2023-05-12-at-22.10.18.jpg
END:VEVENT
BEGIN:VEVENT
DTSTART;TZID=America/New_York:20230512T180000
DTEND;TZID=America/New_York:20230512T200000
DTSTAMP:20260419T215354
CREATED:20230508T051739Z
LAST-MODIFIED:20230512T052847Z
UID:5501-1683914400-1683921600@www.bayonnemuslims.com
SUMMARY:Halaqah Aisha
DESCRIPTION:
URL:https://www.bayonnemuslims.com/events/halaqah-aisha/
LOCATION:Bayonne Muslims\, 109 E 24th St\, Bayonne\, NJ 07002\, USA\, New Jersey\, NJ\, 07002\, United States
CATEGORIES:event
ATTACH;FMTTYPE=image/jpeg:https://www.bayonnemuslims.com/wp-content/uploads/2023/05/WhatsApp-Image-2023-05-07-at-06.09.26.jpg
END:VEVENT
BEGIN:VEVENT
DTSTART;TZID=America/New_York:20230519T180000
DTEND;TZID=America/New_York:20230519T180000
DTSTAMP:20260419T215354
CREATED:20230513T142501Z
LAST-MODIFIED:20230513T142501Z
UID:5555-1684519200-1684519200@www.bayonnemuslims.com
SUMMARY:Halaqah Khadijah
DESCRIPTION:
URL:https://www.bayonnemuslims.com/events/halaqah-khadijah/
LOCATION:Bayonne Muslims\, 109 E 24th St\, Bayonne\, NJ 07002\, USA\, New Jersey\, NJ\, 07002\, United States
CATEGORIES:event
ATTACH;FMTTYPE=image/jpeg:https://www.bayonnemuslims.com/wp-content/uploads/2023/05/WhatsApp-Image-2023-05-12-at-22.10.18.jpg
END:VEVENT
BEGIN:VEVENT
DTSTART;TZID=America/New_York:20230512T180000
DTEND;TZID=America/New_York:20230512T200000
DTSTAMP:20260419T215354
CREATED:20230508T051739Z
LAST-MODIFIED:20230512T052847Z
UID:5501-1683914400-1683921600@www.bayonnemuslims.com
SUMMARY:Halaqah Aisha
DESCRIPTION:
URL:https://www.bayonnemuslims.com/events/halaqah-aisha/
LOCATION:Bayonne Muslims\, 109 E 24th St\, Bayonne\, NJ 07002\, USA\, New Jersey\, NJ\, 07002\, United States
CATEGORIES:event
ATTACH;FMTTYPE=image/jpeg:https://www.bayonnemuslims.com/wp-content/uploads/2023/05/WhatsApp-Image-2023-05-07-at-06.09.26.jpg
END:VEVENT
BEGIN:VEVENT
DTSTART;TZID=America/New_York:20230519T180000
DTEND;TZID=America/New_York:20230519T180000
DTSTAMP:20260419T215354
CREATED:20230513T142501Z
LAST-MODIFIED:20230513T142501Z
UID:5555-1684519200-1684519200@www.bayonnemuslims.com
SUMMARY:Halaqah Khadijah
DESCRIPTION:
URL:https://www.bayonnemuslims.com/events/halaqah-khadijah/
LOCATION:Bayonne Muslims\, 109 E 24th St\, Bayonne\, NJ 07002\, USA\, New Jersey\, NJ\, 07002\, United States
CATEGORIES:event
ATTACH;FMTTYPE=image/jpeg:https://www.bayonnemuslims.com/wp-content/uploads/2023/05/WhatsApp-Image-2023-05-12-at-22.10.18.jpg
END:VEVENT
BEGIN:VEVENT
DTSTART;TZID=America/New_York:20230512T180000
DTEND;TZID=America/New_York:20230512T200000
DTSTAMP:20260419T215354
CREATED:20230508T051739Z
LAST-MODIFIED:20230512T052847Z
UID:5501-1683914400-1683921600@www.bayonnemuslims.com
SUMMARY:Halaqah Aisha
DESCRIPTION:
URL:https://www.bayonnemuslims.com/events/halaqah-aisha/
LOCATION:Bayonne Muslims\, 109 E 24th St\, Bayonne\, NJ 07002\, USA\, New Jersey\, NJ\, 07002\, United States
CATEGORIES:event
ATTACH;FMTTYPE=image/jpeg:https://www.bayonnemuslims.com/wp-content/uploads/2023/05/WhatsApp-Image-2023-05-07-at-06.09.26.jpg
END:VEVENT
BEGIN:VEVENT
DTSTART;TZID=America/New_York:20230519T180000
DTEND;TZID=America/New_York:20230519T180000
DTSTAMP:20260419T215354
CREATED:20230513T142501Z
LAST-MODIFIED:20230513T142501Z
UID:5555-1684519200-1684519200@www.bayonnemuslims.com
SUMMARY:Halaqah Khadijah
DESCRIPTION:
URL:https://www.bayonnemuslims.com/events/halaqah-khadijah/
LOCATION:Bayonne Muslims\, 109 E 24th St\, Bayonne\, NJ 07002\, USA\, New Jersey\, NJ\, 07002\, United States
CATEGORIES:event
ATTACH;FMTTYPE=image/jpeg:https://www.bayonnemuslims.com/wp-content/uploads/2023/05/WhatsApp-Image-2023-05-12-at-22.10.18.jpg
END:VEVENT
BEGIN:VEVENT
DTSTART;TZID=America/New_York:20230512T180000
DTEND;TZID=America/New_York:20230512T200000
DTSTAMP:20260419T215354
CREATED:20230508T051739Z
LAST-MODIFIED:20230512T052847Z
UID:5501-1683914400-1683921600@www.bayonnemuslims.com
SUMMARY:Halaqah Aisha
DESCRIPTION:
URL:https://www.bayonnemuslims.com/events/halaqah-aisha/
LOCATION:Bayonne Muslims\, 109 E 24th St\, Bayonne\, NJ 07002\, USA\, New Jersey\, NJ\, 07002\, United States
CATEGORIES:event
ATTACH;FMTTYPE=image/jpeg:https://www.bayonnemuslims.com/wp-content/uploads/2023/05/WhatsApp-Image-2023-05-07-at-06.09.26.jpg
END:VEVENT
BEGIN:VEVENT
DTSTART;TZID=America/New_York:20230519T180000
DTEND;TZID=America/New_York:20230519T180000
DTSTAMP:20260419T215354
CREATED:20230513T142501Z
LAST-MODIFIED:20230513T142501Z
UID:5555-1684519200-1684519200@www.bayonnemuslims.com
SUMMARY:Halaqah Khadijah
DESCRIPTION:
URL:https://www.bayonnemuslims.com/events/halaqah-khadijah/
LOCATION:Bayonne Muslims\, 109 E 24th St\, Bayonne\, NJ 07002\, USA\, New Jersey\, NJ\, 07002\, United States
CATEGORIES:event
ATTACH;FMTTYPE=image/jpeg:https://www.bayonnemuslims.com/wp-content/uploads/2023/05/WhatsApp-Image-2023-05-12-at-22.10.18.jpg
END:VEVENT
BEGIN:VEVENT
DTSTART;TZID=America/New_York:20230512T180000
DTEND;TZID=America/New_York:20230512T200000
DTSTAMP:20260419T215354
CREATED:20230508T051739Z
LAST-MODIFIED:20230512T052847Z
UID:5501-1683914400-1683921600@www.bayonnemuslims.com
SUMMARY:Halaqah Aisha
DESCRIPTION:
URL:https://www.bayonnemuslims.com/events/halaqah-aisha/
LOCATION:Bayonne Muslims\, 109 E 24th St\, Bayonne\, NJ 07002\, USA\, New Jersey\, NJ\, 07002\, United States
CATEGORIES:event
ATTACH;FMTTYPE=image/jpeg:https://www.bayonnemuslims.com/wp-content/uploads/2023/05/WhatsApp-Image-2023-05-07-at-06.09.26.jpg
END:VEVENT
BEGIN:VEVENT
DTSTART;TZID=America/New_York:20230519T180000
DTEND;TZID=America/New_York:20230519T180000
DTSTAMP:20260419T215354
CREATED:20230513T142501Z
LAST-MODIFIED:20230513T142501Z
UID:5555-1684519200-1684519200@www.bayonnemuslims.com
SUMMARY:Halaqah Khadijah
DESCRIPTION:
URL:https://www.bayonnemuslims.com/events/halaqah-khadijah/
LOCATION:Bayonne Muslims\, 109 E 24th St\, Bayonne\, NJ 07002\, USA\, New Jersey\, NJ\, 07002\, United States
CATEGORIES:event
ATTACH;FMTTYPE=image/jpeg:https://www.bayonnemuslims.com/wp-content/uploads/2023/05/WhatsApp-Image-2023-05-12-at-22.10.18.jpg
END:VEVENT
BEGIN:VEVENT
DTSTART;TZID=America/New_York:20230512T180000
DTEND;TZID=America/New_York:20230512T200000
DTSTAMP:20260419T215354
CREATED:20230508T051739Z
LAST-MODIFIED:20230512T052847Z
UID:5501-1683914400-1683921600@www.bayonnemuslims.com
SUMMARY:Halaqah Aisha
DESCRIPTION:
URL:https://www.bayonnemuslims.com/events/halaqah-aisha/
LOCATION:Bayonne Muslims\, 109 E 24th St\, Bayonne\, NJ 07002\, USA\, New Jersey\, NJ\, 07002\, United States
CATEGORIES:event
ATTACH;FMTTYPE=image/jpeg:https://www.bayonnemuslims.com/wp-content/uploads/2023/05/WhatsApp-Image-2023-05-07-at-06.09.26.jpg
END:VEVENT
BEGIN:VEVENT
DTSTART;TZID=America/New_York:20230519T180000
DTEND;TZID=America/New_York:20230519T180000
DTSTAMP:20260419T215354
CREATED:20230513T142501Z
LAST-MODIFIED:20230513T142501Z
UID:5555-1684519200-1684519200@www.bayonnemuslims.com
SUMMARY:Halaqah Khadijah
DESCRIPTION:
URL:https://www.bayonnemuslims.com/events/halaqah-khadijah/
LOCATION:Bayonne Muslims\, 109 E 24th St\, Bayonne\, NJ 07002\, USA\, New Jersey\, NJ\, 07002\, United States
CATEGORIES:event
ATTACH;FMTTYPE=image/jpeg:https://www.bayonnemuslims.com/wp-content/uploads/2023/05/WhatsApp-Image-2023-05-12-at-22.10.18.jpg
END:VEVENT
BEGIN:VEVENT
DTSTART;TZID=America/New_York:20230512T180000
DTEND;TZID=America/New_York:20230512T200000
DTSTAMP:20260419T215354
CREATED:20230508T051739Z
LAST-MODIFIED:20230512T052847Z
UID:5501-1683914400-1683921600@www.bayonnemuslims.com
SUMMARY:Halaqah Aisha
DESCRIPTION:
URL:https://www.bayonnemuslims.com/events/halaqah-aisha/
LOCATION:Bayonne Muslims\, 109 E 24th St\, Bayonne\, NJ 07002\, USA\, New Jersey\, NJ\, 07002\, United States
CATEGORIES:event
ATTACH;FMTTYPE=image/jpeg:https://www.bayonnemuslims.com/wp-content/uploads/2023/05/WhatsApp-Image-2023-05-07-at-06.09.26.jpg
END:VEVENT
BEGIN:VEVENT
DTSTART;TZID=America/New_York:20230519T180000
DTEND;TZID=America/New_York:20230519T180000
DTSTAMP:20260419T215354
CREATED:20230513T142501Z
LAST-MODIFIED:20230513T142501Z
UID:5555-1684519200-1684519200@www.bayonnemuslims.com
SUMMARY:Halaqah Khadijah
DESCRIPTION:
URL:https://www.bayonnemuslims.com/events/halaqah-khadijah/
LOCATION:Bayonne Muslims\, 109 E 24th St\, Bayonne\, NJ 07002\, USA\, New Jersey\, NJ\, 07002\, United States
CATEGORIES:event
ATTACH;FMTTYPE=image/jpeg:https://www.bayonnemuslims.com/wp-content/uploads/2023/05/WhatsApp-Image-2023-05-12-at-22.10.18.jpg
END:VEVENT
BEGIN:VEVENT
DTSTART;TZID=America/New_York:20230512T180000
DTEND;TZID=America/New_York:20230512T200000
DTSTAMP:20260419T215354
CREATED:20230508T051739Z
LAST-MODIFIED:20230512T052847Z
UID:5501-1683914400-1683921600@www.bayonnemuslims.com
SUMMARY:Halaqah Aisha
DESCRIPTION:
URL:https://www.bayonnemuslims.com/events/halaqah-aisha/
LOCATION:Bayonne Muslims\, 109 E 24th St\, Bayonne\, NJ 07002\, USA\, New Jersey\, NJ\, 07002\, United States
CATEGORIES:event
ATTACH;FMTTYPE=image/jpeg:https://www.bayonnemuslims.com/wp-content/uploads/2023/05/WhatsApp-Image-2023-05-07-at-06.09.26.jpg
END:VEVENT
BEGIN:VEVENT
DTSTART;TZID=America/New_York:20230519T180000
DTEND;TZID=America/New_York:20230519T180000
DTSTAMP:20260419T215354
CREATED:20230513T142501Z
LAST-MODIFIED:20230513T142501Z
UID:5555-1684519200-1684519200@www.bayonnemuslims.com
SUMMARY:Halaqah Khadijah
DESCRIPTION:
URL:https://www.bayonnemuslims.com/events/halaqah-khadijah/
LOCATION:Bayonne Muslims\, 109 E 24th St\, Bayonne\, NJ 07002\, USA\, New Jersey\, NJ\, 07002\, United States
CATEGORIES:event
ATTACH;FMTTYPE=image/jpeg:https://www.bayonnemuslims.com/wp-content/uploads/2023/05/WhatsApp-Image-2023-05-12-at-22.10.18.jpg
END:VEVENT
BEGIN:VEVENT
DTSTART;TZID=America/New_York:20230512T180000
DTEND;TZID=America/New_York:20230512T200000
DTSTAMP:20260419T215354
CREATED:20230508T051739Z
LAST-MODIFIED:20230512T052847Z
UID:5501-1683914400-1683921600@www.bayonnemuslims.com
SUMMARY:Halaqah Aisha
DESCRIPTION:
URL:https://www.bayonnemuslims.com/events/halaqah-aisha/
LOCATION:Bayonne Muslims\, 109 E 24th St\, Bayonne\, NJ 07002\, USA\, New Jersey\, NJ\, 07002\, United States
CATEGORIES:event
ATTACH;FMTTYPE=image/jpeg:https://www.bayonnemuslims.com/wp-content/uploads/2023/05/WhatsApp-Image-2023-05-07-at-06.09.26.jpg
END:VEVENT
BEGIN:VEVENT
DTSTART;TZID=America/New_York:20230519T180000
DTEND;TZID=America/New_York:20230519T180000
DTSTAMP:20260419T215354
CREATED:20230513T142501Z
LAST-MODIFIED:20230513T142501Z
UID:5555-1684519200-1684519200@www.bayonnemuslims.com
SUMMARY:Halaqah Khadijah
DESCRIPTION:
URL:https://www.bayonnemuslims.com/events/halaqah-khadijah/
LOCATION:Bayonne Muslims\, 109 E 24th St\, Bayonne\, NJ 07002\, USA\, New Jersey\, NJ\, 07002\, United States
CATEGORIES:event
ATTACH;FMTTYPE=image/jpeg:https://www.bayonnemuslims.com/wp-content/uploads/2023/05/WhatsApp-Image-2023-05-12-at-22.10.18.jpg
END:VEVENT
BEGIN:VEVENT
DTSTART;TZID=America/New_York:20230512T180000
DTEND;TZID=America/New_York:20230512T200000
DTSTAMP:20260419T215354
CREATED:20230508T051739Z
LAST-MODIFIED:20230512T052847Z
UID:5501-1683914400-1683921600@www.bayonnemuslims.com
SUMMARY:Halaqah Aisha
DESCRIPTION:
URL:https://www.bayonnemuslims.com/events/halaqah-aisha/
LOCATION:Bayonne Muslims\, 109 E 24th St\, Bayonne\, NJ 07002\, USA\, New Jersey\, NJ\, 07002\, United States
CATEGORIES:event
ATTACH;FMTTYPE=image/jpeg:https://www.bayonnemuslims.com/wp-content/uploads/2023/05/WhatsApp-Image-2023-05-07-at-06.09.26.jpg
END:VEVENT
BEGIN:VEVENT
DTSTART;TZID=America/New_York:20230519T180000
DTEND;TZID=America/New_York:20230519T180000
DTSTAMP:20260419T215354
CREATED:20230513T142501Z
LAST-MODIFIED:20230513T142501Z
UID:5555-1684519200-1684519200@www.bayonnemuslims.com
SUMMARY:Halaqah Khadijah
DESCRIPTION:
URL:https://www.bayonnemuslims.com/events/halaqah-khadijah/
LOCATION:Bayonne Muslims\, 109 E 24th St\, Bayonne\, NJ 07002\, USA\, New Jersey\, NJ\, 07002\, United States
CATEGORIES:event
ATTACH;FMTTYPE=image/jpeg:https://www.bayonnemuslims.com/wp-content/uploads/2023/05/WhatsApp-Image-2023-05-12-at-22.10.18.jpg
END:VEVENT
BEGIN:VEVENT
DTSTART;TZID=America/New_York:20230512T180000
DTEND;TZID=America/New_York:20230512T200000
DTSTAMP:20260419T215354
CREATED:20230508T051739Z
LAST-MODIFIED:20230512T052847Z
UID:5501-1683914400-1683921600@www.bayonnemuslims.com
SUMMARY:Halaqah Aisha
DESCRIPTION:
URL:https://www.bayonnemuslims.com/events/halaqah-aisha/
LOCATION:Bayonne Muslims\, 109 E 24th St\, Bayonne\, NJ 07002\, USA\, New Jersey\, NJ\, 07002\, United States
CATEGORIES:event
ATTACH;FMTTYPE=image/jpeg:https://www.bayonnemuslims.com/wp-content/uploads/2023/05/WhatsApp-Image-2023-05-07-at-06.09.26.jpg
END:VEVENT
BEGIN:VEVENT
DTSTART;TZID=America/New_York:20230519T180000
DTEND;TZID=America/New_York:20230519T180000
DTSTAMP:20260419T215354
CREATED:20230513T142501Z
LAST-MODIFIED:20230513T142501Z
UID:5555-1684519200-1684519200@www.bayonnemuslims.com
SUMMARY:Halaqah Khadijah
DESCRIPTION:
URL:https://www.bayonnemuslims.com/events/halaqah-khadijah/
LOCATION:Bayonne Muslims\, 109 E 24th St\, Bayonne\, NJ 07002\, USA\, New Jersey\, NJ\, 07002\, United States
CATEGORIES:event
ATTACH;FMTTYPE=image/jpeg:https://www.bayonnemuslims.com/wp-content/uploads/2023/05/WhatsApp-Image-2023-05-12-at-22.10.18.jpg
END:VEVENT
BEGIN:VEVENT
DTSTART;TZID=America/New_York:20230512T180000
DTEND;TZID=America/New_York:20230512T200000
DTSTAMP:20260419T215354
CREATED:20230508T051739Z
LAST-MODIFIED:20230512T052847Z
UID:5501-1683914400-1683921600@www.bayonnemuslims.com
SUMMARY:Halaqah Aisha
DESCRIPTION:
URL:https://www.bayonnemuslims.com/events/halaqah-aisha/
LOCATION:Bayonne Muslims\, 109 E 24th St\, Bayonne\, NJ 07002\, USA\, New Jersey\, NJ\, 07002\, United States
CATEGORIES:event
ATTACH;FMTTYPE=image/jpeg:https://www.bayonnemuslims.com/wp-content/uploads/2023/05/WhatsApp-Image-2023-05-07-at-06.09.26.jpg
END:VEVENT
BEGIN:VEVENT
DTSTART;TZID=America/New_York:20230519T180000
DTEND;TZID=America/New_York:20230519T180000
DTSTAMP:20260419T215354
CREATED:20230513T142501Z
LAST-MODIFIED:20230513T142501Z
UID:5555-1684519200-1684519200@www.bayonnemuslims.com
SUMMARY:Halaqah Khadijah
DESCRIPTION:
URL:https://www.bayonnemuslims.com/events/halaqah-khadijah/
LOCATION:Bayonne Muslims\, 109 E 24th St\, Bayonne\, NJ 07002\, USA\, New Jersey\, NJ\, 07002\, United States
CATEGORIES:event
ATTACH;FMTTYPE=image/jpeg:https://www.bayonnemuslims.com/wp-content/uploads/2023/05/WhatsApp-Image-2023-05-12-at-22.10.18.jpg
END:VEVENT
BEGIN:VEVENT
DTSTART;TZID=America/New_York:20230512T180000
DTEND;TZID=America/New_York:20230512T200000
DTSTAMP:20260419T215354
CREATED:20230508T051739Z
LAST-MODIFIED:20230512T052847Z
UID:5501-1683914400-1683921600@www.bayonnemuslims.com
SUMMARY:Halaqah Aisha
DESCRIPTION:
URL:https://www.bayonnemuslims.com/events/halaqah-aisha/
LOCATION:Bayonne Muslims\, 109 E 24th St\, Bayonne\, NJ 07002\, USA\, New Jersey\, NJ\, 07002\, United States
CATEGORIES:event
ATTACH;FMTTYPE=image/jpeg:https://www.bayonnemuslims.com/wp-content/uploads/2023/05/WhatsApp-Image-2023-05-07-at-06.09.26.jpg
END:VEVENT
BEGIN:VEVENT
DTSTART;TZID=America/New_York:20230519T180000
DTEND;TZID=America/New_York:20230519T180000
DTSTAMP:20260419T215354
CREATED:20230513T142501Z
LAST-MODIFIED:20230513T142501Z
UID:5555-1684519200-1684519200@www.bayonnemuslims.com
SUMMARY:Halaqah Khadijah
DESCRIPTION:
URL:https://www.bayonnemuslims.com/events/halaqah-khadijah/
LOCATION:Bayonne Muslims\, 109 E 24th St\, Bayonne\, NJ 07002\, USA\, New Jersey\, NJ\, 07002\, United States
CATEGORIES:event
ATTACH;FMTTYPE=image/jpeg:https://www.bayonnemuslims.com/wp-content/uploads/2023/05/WhatsApp-Image-2023-05-12-at-22.10.18.jpg
END:VEVENT
BEGIN:VEVENT
DTSTART;TZID=America/New_York:20230512T180000
DTEND;TZID=America/New_York:20230512T200000
DTSTAMP:20260419T215354
CREATED:20230508T051739Z
LAST-MODIFIED:20230512T052847Z
UID:5501-1683914400-1683921600@www.bayonnemuslims.com
SUMMARY:Halaqah Aisha
DESCRIPTION:
URL:https://www.bayonnemuslims.com/events/halaqah-aisha/
LOCATION:Bayonne Muslims\, 109 E 24th St\, Bayonne\, NJ 07002\, USA\, New Jersey\, NJ\, 07002\, United States
CATEGORIES:event
ATTACH;FMTTYPE=image/jpeg:https://www.bayonnemuslims.com/wp-content/uploads/2023/05/WhatsApp-Image-2023-05-07-at-06.09.26.jpg
END:VEVENT
END:VCALENDAR